BEGIN:VCALENDAR
VERSION:2.0
PRODID:-//kit uB - ECPv6.2.8.2//NONSGML v1.0//EN
CALSCALE:GREGORIAN
METHOD:PUBLISH
X-ORIGINAL-URL:https://ufrdsep-tmp.u-bourgogne.fr
X-WR-CALDESC:évènements pour kit uB
REFRESH-INTERVAL;VALUE=DURATION:PT1H
X-Robots-Tag:noindex
X-PUBLISHED-TTL:PT1H
BEGIN:VTIMEZONE
TZID:UTC
BEGIN:STANDARD
TZOFFSETFROM:+0000
TZOFFSETTO:+0000
TZNAME:UTC
DTSTART:20170101T000000
END:STANDARD
END:VTIMEZONE
BEGIN:VEVENT
DTSTART;TZID=UTC:20171011T090000
DTEND;TZID=UTC:20171012T180000
DTSTAMP:20260422T071748
CREATED:20180126T150424Z
LAST-MODIFIED:20180126T150424Z
UID:11678-1507712400-1507831200@ufrdsep-tmp.u-bourgogne.fr
SUMMARY:Salon-objectifemploi.com
DESCRIPTION:A l’occasion du 4e Salon virtuel de l’emploi et de la formation des régions Auvergne-Rhône-Alpes\, Bourgogne Franche-Comté\, Centre – Val de Loire et Nouvelle Aquitaine\, retrouvez les recruteurs et organismes de formation les 11 et 12 octobre 2017 de 9h à 18h. \nVous pourrez ainsi échanger en direct via tchat. \nPour déposer votre candidature sur une offre\, il faut\, au préalable\, créer un compte. \nLes inscriptions en ligne sont ouvertes. \nPour en savoir plus\, téléchargez le guide du visiteur 2017. \nhttp://salon-objectifemploi.com/
URL:https://ufrdsep-tmp.u-bourgogne.fr/event/salon-objectifemploi-com/
CATEGORIES:Insertion professionnelle
END:VEVENT
END:VCALENDAR