BEGIN:VCALENDAR
VERSION:2.0
PRODID:-//kit uB - ECPv6.2.8.2//NONSGML v1.0//EN
CALSCALE:GREGORIAN
METHOD:PUBLISH
X-WR-CALNAME:kit uB
X-ORIGINAL-URL:https://ufrdsep-tmp.u-bourgogne.fr
X-WR-CALDESC:évènements pour kit uB
REFRESH-INTERVAL;VALUE=DURATION:PT1H
X-Robots-Tag:noindex
X-PUBLISHED-TTL:PT1H
BEGIN:VTIMEZONE
TZID:UTC
BEGIN:STANDARD
TZOFFSETFROM:+0000
TZOFFSETTO:+0000
TZNAME:UTC
DTSTART:20170101T000000
END:STANDARD
END:VTIMEZONE
BEGIN:VEVENT
DTSTART;VALUE=DATE:20170120
DTEND;VALUE=DATE:20170321
DTSTAMP:20260422T174804
CREATED:20170619T121733Z
LAST-MODIFIED:20170619T121733Z
UID:11522-1484870400-1490054399@ufrdsep-tmp.u-bourgogne.fr
SUMMARY:Admission postbac 2017 - 1ère phase
DESCRIPTION:La première phase de la procédure admission postbac se déroule du 20 janvier au 20 mars 2017. Vous voulez postuler à l’uB ? Retrouvez toutes les informations nécessaires sur lyceens.u-bourgogne.fr. 
URL:https://ufrdsep-tmp.u-bourgogne.fr/event/admission-postbac-2017-1ere-phase/
CATEGORIES:Insertion professionnelle
END:VEVENT
BEGIN:VEVENT
DTSTART;VALUE=DATE:20170208
DTEND;VALUE=DATE:20170307
DTSTAMP:20260422T174804
CREATED:20170619T121733Z
LAST-MODIFIED:20170619T121733Z
UID:11527-1486512000-1488844799@ufrdsep-tmp.u-bourgogne.fr
SUMMARY:Concours d’affiche « Luttons ensemble contre les discriminations »
DESCRIPTION:A l’occasion de la Journée internationale pour l’élimination de la discrimination raciale célébrée chaque année le 21 mars\, la mission Egalité Diversité lance un concours d’affiche intitulé « Luttons ensemble contre les discriminations » du 8 février au 6 mars au 2017 à l’université de Bourgogne. \n \nhttp://blog.u-bourgogne.fr/egalite-diversite/category/manifestations/
URL:https://ufrdsep-tmp.u-bourgogne.fr/event/concours-daffiche-luttons-ensemble-contre-les-discriminations/
CATEGORIES:Insertion professionnelle
ATTACH;FMTTYPE=image/jpeg:https://ufrdsep-tmp.u-bourgogne.fr/wp-content/uploads/2017/06/Agenda_Affiche-concours_discriminations.jpg
END:VEVENT
END:VCALENDAR