BEGIN:VCALENDAR
VERSION:2.0
PRODID:-//kit uB - ECPv6.2.8.2//NONSGML v1.0//EN
CALSCALE:GREGORIAN
METHOD:PUBLISH
X-ORIGINAL-URL:https://ufrdsep-tmp.u-bourgogne.fr
X-WR-CALDESC:évènements pour kit uB
REFRESH-INTERVAL;VALUE=DURATION:PT1H
X-Robots-Tag:noindex
X-PUBLISHED-TTL:PT1H
BEGIN:VTIMEZONE
TZID:UTC
BEGIN:STANDARD
TZOFFSETFROM:+0000
TZOFFSETTO:+0000
TZNAME:UTC
DTSTART:20160101T000000
END:STANDARD
END:VTIMEZONE
BEGIN:VEVENT
DTSTART;TZID=UTC:20161206T140000
DTEND;TZID=UTC:20161206T170000
DTSTAMP:20260424T110526
CREATED:20170619T121733Z
LAST-MODIFIED:20170619T121733Z
UID:11512-1481032800-1481043600@ufrdsep-tmp.u-bourgogne.fr
SUMMARY:Soutenance de thèse Droit : Nina MAMY
DESCRIPTION:Sujet : La situation des femmes originaires de l’Afrique de l’Ouest : élements de reflexions sociologiques et juridiques. \nDirecteur de thèse : Raphael Porteilla \nJury : \n\nAlbert Bourgi – Professeur – Université de Reims\nRobert Charvin – Professeur – Université de Nice\nPhilippe Icard – MCF HDR – Université de Bourgogne
URL:https://ufrdsep-tmp.u-bourgogne.fr/event/soutenance-de-these-droit-nina-mamy/
CATEGORIES:Insertion professionnelle
END:VEVENT
END:VCALENDAR