BEGIN:VCALENDAR
VERSION:2.0
PRODID:-//kit uB - ECPv6.2.8.2//NONSGML v1.0//EN
CALSCALE:GREGORIAN
METHOD:PUBLISH
X-WR-CALNAME:kit uB
X-ORIGINAL-URL:https://ufrdsep-tmp.u-bourgogne.fr
X-WR-CALDESC:évènements pour kit uB
REFRESH-INTERVAL;VALUE=DURATION:PT1H
X-Robots-Tag:noindex
X-PUBLISHED-TTL:PT1H
BEGIN:VTIMEZONE
TZID:UTC
BEGIN:STANDARD
TZOFFSETFROM:+0000
TZOFFSETTO:+0000
TZNAME:UTC
DTSTART:20160101T000000
END:STANDARD
END:VTIMEZONE
BEGIN:VEVENT
DTSTART;VALUE=DATE:20161118
DTEND;VALUE=DATE:20161120
DTSTAMP:20260424T122115
CREATED:20170619T121732Z
LAST-MODIFIED:20170619T121732Z
UID:11499-1479427200-1479599999@ufrdsep-tmp.u-bourgogne.fr
SUMMARY:12ème salon Studyrama
DESCRIPTION:Que faire après le Bac ? Que faire après un Bac +2/+3 ?\nLe monde de l’enseignement supérieur ouvrira bientôt ses portes aux futurs bacheliers de Bourgogne. Ils rejoindront les quelque 43 000 étudiants de l’Académie. Leur préoccupation majeure : l’orientation.C’est en effet à partir du 20 janvier\, date d’ouverture du portail Admission Post-Bac (procédure obligatoire pour les élèves de Terminale qui souhaitent s’orienter dans le supérieur) que les jeunes devront se décider. C’est donc maintenant qu’il faut se renseigner pour faire les bons choix. \nAfin de répondre à toutes les questions des jeunes (et de leurs parents) en matière d’orientation et de les accompagner dans leur démarche\, Studyrama organise la douzième édition du Salon des Études Supérieures de Dijon\, les 18 et 19 novembre 2016. L’occasion pour les visiteurs de rencontrer sur un même lieu\, les acteurs de l’orientation locaux et nationaux. \nLes points forts du salon\nUne centaine d’établissements privés et publics représentant plus de 800 formations\, de Bac à Bac+5Université\, IUT\, BTS\, Prépas\, écoles de commerce et d’ingénieurs\, écoles de métiers\, CFA\, classes préparatoires\, lycées… : ces organismes\, régionaux et venant de toute la France\, auront pour mission de conseiller et guider les jeunes vers le cursus adapté à leur niveau d’études et leur spécialisation. Ils proposeront leurs programmes dans des secteurs aussi variés que les sciences\, les arts\, l’industrie\, le commerce\, la santé\, l’informatique ou encore l’environnement. \nUn espace « Orientation » animé conjointement par le SAIO\, la Délégation régionale de l’ONISEP et les CIO sera mis en place : des conseillers d’orientation psychologues répondront aux questions des jeunes sur les parcours d’études et les débouchés professionnels. Brochures et documentation seront également proposées sur cet espace. \n– Le guide Studyrama du salon sera remis à chaque visiteur.– Une librairie spécialisée sur l’orientation proposera des ouvrages dédiés aux études\, aux concours\, aux examens\, etc. \nS’informer sur la vie étudiante\nLogement\, bourses\, sécurité sociale étudiante\, droits\, loisirs… Les visiteurs trouveront sur cet espace toutes les informations indispensables pour bien vivre au quotidien. \nDes conférences animées par des experts de l’orientation\nLes visiteurs (étudiants\, futurs étudiants et parents)\, auront la possibilité d’assister à des conférences thématiques animées par des spécialistes de l’orientation. Moments privilégiés pour échanger et dialoguer\, ces conférences donneront des réponses pratiques à des questions clés. Programme détaillé sur demande. \nhttp://www.studyrama.com/salons/salon-studyrama-des-etudes-superieures-de-dijon-25
URL:https://ufrdsep-tmp.u-bourgogne.fr/event/12eme-salon-studyrama/
CATEGORIES:Insertion professionnelle
ATTACH;FMTTYPE=image/jpeg:https://ufrdsep-tmp.u-bourgogne.fr/wp-content/uploads/2017/06/Images_Etudes_Sup_DIJON_A5_Q.jpg
END:VEVENT
END:VCALENDAR