BEGIN:VCALENDAR
VERSION:2.0
PRODID:-//kit uB - ECPv6.2.8.2//NONSGML v1.0//EN
CALSCALE:GREGORIAN
METHOD:PUBLISH
X-WR-CALNAME:kit uB
X-ORIGINAL-URL:https://ufrdsep-tmp.u-bourgogne.fr
X-WR-CALDESC:évènements pour kit uB
REFRESH-INTERVAL;VALUE=DURATION:PT1H
X-Robots-Tag:noindex
X-PUBLISHED-TTL:PT1H
BEGIN:VTIMEZONE
TZID:UTC
BEGIN:STANDARD
TZOFFSETFROM:+0000
TZOFFSETTO:+0000
TZNAME:UTC
DTSTART:20160101T000000
END:STANDARD
END:VTIMEZONE
BEGIN:VEVENT
DTSTART;TZID=UTC:20161024T090000
DTEND;TZID=UTC:20161025T170000
DTSTAMP:20260424T134242
CREATED:20170619T121732Z
LAST-MODIFIED:20170619T121732Z
UID:11484-1477299600-1477414800@ufrdsep-tmp.u-bourgogne.fr
SUMMARY:Colloque international : Financement et moralisation de la vie politique. Perspective comparée
DESCRIPTION:  \nPlaquette avec programme \nTraduction simultanée pour les communications en Anglais –   Simultaneous interpreting service available \nInscription gratuite; participation au buffet déjeunatoire possible \nBulletin d’inscription \n \nSous la direction d’Elsa Forey\, Aurore Granero et Dominique Andolfatto\, (CREDESPO) et d’Alix Meyer  (laboratoire TIL)\, enseignants-chercheurs à l’Université de Bourgogne Franche-Comté. \nDepuis les années 1970\, on assiste à une tentative de moralisation de la vie politique. Par des biais parfois très différents\, certains pays ont cherché à clarifier les modes de financement de la vie politique afin de lutter contre la corruption et l’influence de l’argent dans le jeu électoral. La transparence de la vie politique est devenue un axiome central dans la plupart des Etats démocratiques. Pourtant\, àl’aune de la succession ininterrompue des scandales\, force est de constater que les mécanismes mis en place se révèlent incomplets. Paradoxalement\, le foisonnement des textes\, rapports et documents contribuent à la persistance d’une grande opacité pour le citoyen. Il convient donc de se poser la question suivante : la transparence a-t-elle permis la moralisation de la vie politique ? \nSince the 1970s\, there have been numerous attempts at political reform. Through various means\, different countries have tried to clarify the rules pertaining to the financing of electoral campaigns and political parties to fight corruption and the influence of wealth at the ballot box. The idea of transparency itself has become a major goal. Despite these efforts\, the recurrence of political scandals shows theimperfections of the current framework or mechanisms. As governments move toward more transparency citizens can be overwhelmed by a torrent of data scattered about in official reports\, disclosure filings\, financial accounts\, judicial decisions or administrative rulings\, all paradoxically contributing to clouding the picture. Thus\, it is worth asking: did transparency truly reform the political system?
URL:https://ufrdsep-tmp.u-bourgogne.fr/event/colloque-international-financement-et-moralisation-de-la-vie-politique-perspective-comparee/
CATEGORIES:Insertion professionnelle
ATTACH;FMTTYPE=image/jpeg:https://ufrdsep-tmp.u-bourgogne.fr/wp-content/uploads/2017/06/Affiche_Transparence_Politique_taille_reduit.jpg
END:VEVENT
END:VCALENDAR