BEGIN:VCALENDAR
VERSION:2.0
PRODID:-//kit uB - ECPv6.2.8.2//NONSGML v1.0//EN
CALSCALE:GREGORIAN
METHOD:PUBLISH
X-WR-CALNAME:kit uB
X-ORIGINAL-URL:https://ufrdsep-tmp.u-bourgogne.fr
X-WR-CALDESC:évènements pour kit uB
REFRESH-INTERVAL;VALUE=DURATION:PT1H
X-Robots-Tag:noindex
X-PUBLISHED-TTL:PT1H
BEGIN:VTIMEZONE
TZID:UTC
BEGIN:STANDARD
TZOFFSETFROM:+0000
TZOFFSETTO:+0000
TZNAME:UTC
DTSTART:20160101T000000
END:STANDARD
END:VTIMEZONE
BEGIN:VEVENT
DTSTART;TZID=UTC:20161017T140000
DTEND;TZID=UTC:20161017T170000
DTSTAMP:20260424T134201
CREATED:20170619T121732Z
LAST-MODIFIED:20170619T121732Z
UID:11478-1476712800-1476723600@ufrdsep-tmp.u-bourgogne.fr
SUMMARY:Soutenance de thèse Droit : Alexandra LECLERE
DESCRIPTION:Sujet : l’homosexualité et la constitution de la famille : situation française et européenne. \nDirectrice de thèse : Hélène Tourard \nJury : \n\nEmmanuella Doussis – Professeur – Université d’Athènes\nEstelle Gallant – MCF HDR – Université Paris 1\nNatahlie Joubert – Professeur – Université de Bourgogne\nAurelia Fayutre Robin – MCF – Université d’Auvergne
URL:https://ufrdsep-tmp.u-bourgogne.fr/event/soutenance-de-these-droit-alexandra-leclere/
CATEGORIES:Insertion professionnelle
END:VEVENT
END:VCALENDAR