BEGIN:VCALENDAR
VERSION:2.0
PRODID:-//kit uB - ECPv6.2.8.2//NONSGML v1.0//EN
CALSCALE:GREGORIAN
METHOD:PUBLISH
X-WR-CALNAME:kit uB
X-ORIGINAL-URL:https://ufrdsep-tmp.u-bourgogne.fr
X-WR-CALDESC:évènements pour kit uB
REFRESH-INTERVAL;VALUE=DURATION:PT1H
X-Robots-Tag:noindex
X-PUBLISHED-TTL:PT1H
BEGIN:VTIMEZONE
TZID:UTC
BEGIN:STANDARD
TZOFFSETFROM:+0000
TZOFFSETTO:+0000
TZNAME:UTC
DTSTART:20160101T000000
END:STANDARD
END:VTIMEZONE
BEGIN:VEVENT
DTSTART;TZID=UTC:20160226T100000
DTEND;TZID=UTC:20160226T170000
DTSTAMP:20260425T024423
CREATED:20170619T121732Z
LAST-MODIFIED:20170619T121732Z
UID:11401-1456480800-1456506000@ufrdsep-tmp.u-bourgogne.fr
SUMMARY:JobCamp Dijon 2016 #2
DESCRIPTION:Le JobCamp a pour thématique « Innovations et usages numériques au service de la recherche d’emploi ». Ce n’est pas un jobdating\, mais les recruteurs peuvent participer pour échanger à propos de leur stratégie de recrutement ou de leur marque employeur. \nInscriptions : Candidat ou intervenant
URL:https://ufrdsep-tmp.u-bourgogne.fr/event/jobcamp-dijon-2016-2/
CATEGORIES:Insertion professionnelle
END:VEVENT
END:VCALENDAR