BEGIN:VCALENDAR
VERSION:2.0
PRODID:-//kit uB - ECPv6.2.8.2//NONSGML v1.0//EN
CALSCALE:GREGORIAN
METHOD:PUBLISH
X-WR-CALNAME:kit uB
X-ORIGINAL-URL:https://ufrdsep-tmp.u-bourgogne.fr
X-WR-CALDESC:évènements pour kit uB
REFRESH-INTERVAL;VALUE=DURATION:PT1H
X-Robots-Tag:noindex
X-PUBLISHED-TTL:PT1H
BEGIN:VTIMEZONE
TZID:UTC
BEGIN:STANDARD
TZOFFSETFROM:+0000
TZOFFSETTO:+0000
TZNAME:UTC
DTSTART:20170101T000000
END:STANDARD
END:VTIMEZONE
BEGIN:VEVENT
DTSTART;VALUE=DATE:20171023
DTEND;VALUE=DATE:20171028
DTSTAMP:20260419T230841
CREATED:20180126T150424Z
LAST-MODIFIED:20180126T150424Z
UID:11693-1508716800-1509148799@ufrdsep-tmp.u-bourgogne.fr
SUMMARY:Hello Handicap
DESCRIPTION:Créé par Handicap.fr\, Hello Handicap est le plus grand salon de recrutement en ligne dédié aux travailleurs en situation de handicap. \nPour la prochaine édition\, plus de 50 entreprises proposent des milliers d’offres à pourvoir dans toute la France. \nPour participer à des entretiens de recrutement sans se déplacer (par téléphone ou par tchat)\, les candidats doivent s’inscrire avant le 18 octobre. \n1. Dès maintenant\, les candidats créent leur compte sur Hello-handicap.fr \n2. Hello Handicap présente instantanément 100 % de correspondance entre les compétences du candidat et les offres qui sont en ligne. Ces recommandations automatisées permettent de cibler en un instant les offres les plus pertinentes. Le candidat peut aussi faire une recherche plus large grâce au moteur de recherche. À lui\, après cette sélection intelligente\, de postuler en un clic aux postes de son choix et de décrocher un entretien sur rendez-vous\, par téléphone ou par chat. \n3. Les candidats pré-sélectionnés seront contactés pour fixer un entretien par téléphone ou par chat. \n4. Après Hello handicap\, le processus se poursuit par des entretiens physiques\, selon la politique recrutement de chaque entreprise. \nBref\, pas besoin de se déplacer : les candidats postulent en ligne et passent les 1ers entretiens d’où ils veulent\, sans stress inutile. \nLes entreprises participantes à Hello Handicap : \nAkka Technologies BNP Paribas • Bouygues Energies & Services • Burger King France Capgemini • Casino • Colas • EDF • Enedis • Fare – Le Monde de la Propreté • Fnac • Foncia France Quick • Fromageries Bel • GE Medical • GEFCO • Generali • GL Events Support Groupe Afnor • Groupe Pierre & Vacances Center Parcs • Groupe Pomona • HSBC • Ikea Kaufman & Broad • Klesia • Korian • KPMG • La Française des Jeux • La Mutuelle Générale Léon Grosse • Les Petits Chaperons Rouges • Manpower • Marionnaud • MGEN Union Michelin • Natixis Assurances • Nestlé France • Nocibé • Pôle emploi • RATP • Réseau Club Bouygues Télécom • SFR • SNCF Matériel • SNCF Métiers transverses et sureté • SNCF Réseau • SNCF Voyage • Société Générale • Sogeti • Sopra Steria • SPIE • UP • Zara • Zenika \nhttps://hello-handicap.fr/
URL:https://ufrdsep-tmp.u-bourgogne.fr/event/hello-handicap/
CATEGORIES:Formation
END:VEVENT
END:VCALENDAR