BEGIN:VCALENDAR
VERSION:2.0
PRODID:-//kit uB - ECPv6.2.8.2//NONSGML v1.0//EN
CALSCALE:GREGORIAN
METHOD:PUBLISH
X-ORIGINAL-URL:https://ufrdsep-tmp.u-bourgogne.fr
X-WR-CALDESC:évènements pour kit uB
REFRESH-INTERVAL;VALUE=DURATION:PT1H
X-Robots-Tag:noindex
X-PUBLISHED-TTL:PT1H
BEGIN:VTIMEZONE
TZID:UTC
BEGIN:STANDARD
TZOFFSETFROM:+0000
TZOFFSETTO:+0000
TZNAME:UTC
DTSTART:20170101T000000
END:STANDARD
END:VTIMEZONE
BEGIN:VEVENT
DTSTART;TZID=UTC:20171012T170000
DTEND;TZID=UTC:20171012T210000
DTSTAMP:20260419T231011
CREATED:20180126T150424Z
LAST-MODIFIED:20180126T150424Z
UID:11686-1507827600-1507842000@ufrdsep-tmp.u-bourgogne.fr
SUMMARY:Soirée speed dating des Entrepreneuriales
DESCRIPTION:L’ESIREM accueille la soirée Speed Dating des Entrepreneuriales – Jeudi 12 octobre 2017 de 17h à 21h. Venez proposer votre projet d’entreprise ou rejoindre une équipe. \nhttps://www.les-entrepreneuriales.fr/region/bourgogne/
URL:https://ufrdsep-tmp.u-bourgogne.fr/event/soiree-speed-dating-des-entrepreneuriales/
LOCATION:Ecole d’ingénieurs ESIREM – Dijon\, Ecole d'ingénieurs ESIREM - Dijon
CATEGORIES:Formation
END:VEVENT
END:VCALENDAR