BEGIN:VCALENDAR
VERSION:2.0
PRODID:-//kit uB - ECPv6.2.8.2//NONSGML v1.0//EN
CALSCALE:GREGORIAN
METHOD:PUBLISH
X-ORIGINAL-URL:https://ufrdsep-tmp.u-bourgogne.fr
X-WR-CALDESC:évènements pour kit uB
REFRESH-INTERVAL;VALUE=DURATION:PT1H
X-Robots-Tag:noindex
X-PUBLISHED-TTL:PT1H
BEGIN:VTIMEZONE
TZID:UTC
BEGIN:STANDARD
TZOFFSETFROM:+0000
TZOFFSETTO:+0000
TZNAME:UTC
DTSTART:20170101T000000
END:STANDARD
END:VTIMEZONE
BEGIN:VEVENT
DTSTART;TZID=UTC:20170615T140000
DTEND;TZID=UTC:20170615T160000
DTSTAMP:20260420T050609
CREATED:20171011T140626Z
LAST-MODIFIED:20171011T140626Z
UID:11657-1497535200-1497542400@ufrdsep-tmp.u-bourgogne.fr
SUMMARY:Job Dating Intérim à Auxerre
DESCRIPTION:La mission locale d’Auxerre donne rendez-vous à tous les jeunes demandeurs d’emploi\, de 16 à 25 ans\, jeudi 15 juin 2017\, pour un Job Dating Intérim. \nDes conseillers de la mission locale se tiendront à disposition pour aider dans vos candidatures. \nRendez-vous au « LE PHARE » 8 avenue Delacroix à Auxerre.  \nPlus d’informations auprès de : \nCéline QUESNOITConseillère en Insertion Sociale et professionnelleMission locale de l’Auxerrois8 Avenue Delacroix89000 AUXERRETél : 03.86.42.00.42
URL:https://ufrdsep-tmp.u-bourgogne.fr/event/job-dating-interim-a-auxerre/
CATEGORIES:Formation
END:VEVENT
END:VCALENDAR