BEGIN:VCALENDAR
VERSION:2.0
PRODID:-//kit uB - ECPv6.2.8.2//NONSGML v1.0//EN
CALSCALE:GREGORIAN
METHOD:PUBLISH
X-WR-CALNAME:kit uB
X-ORIGINAL-URL:https://ufrdsep-tmp.u-bourgogne.fr
X-WR-CALDESC:évènements pour kit uB
REFRESH-INTERVAL;VALUE=DURATION:PT1H
X-Robots-Tag:noindex
X-PUBLISHED-TTL:PT1H
BEGIN:VTIMEZONE
TZID:UTC
BEGIN:STANDARD
TZOFFSETFROM:+0000
TZOFFSETTO:+0000
TZNAME:UTC
DTSTART:20170101T000000
END:STANDARD
END:VTIMEZONE
BEGIN:VEVENT
DTSTART;VALUE=DATE:20170421
DTEND;VALUE=DATE:20170520
DTSTAMP:20260420T063724
CREATED:20170619T121733Z
LAST-MODIFIED:20170619T121733Z
UID:11616-1492732800-1495238399@ufrdsep-tmp.u-bourgogne.fr
SUMMARY:10 ème édition du forum Emploi Handicap "Talents Handicap"
DESCRIPTION:Talents Handicap National est un forum en ligne\, accessible de n’importe où en France sans se déplacer\, à l’adresse suivante : http://www.talents-handicap.com \nZone d’emploi : France entière \nPlanning du forum : \nDu 21 Avril au 17 Mai 2017 : Le forum sera ouvert aux candidats pour qu’ils puissent s’inscrire\, consulter les offres d’emplois\, demander des rendez-vous avec les entreprises de leurs choix. Chaque entreprise présélectionne les candidats. Si votre profil est retenu\, vous recevrez un email vous indiquant l’heure de votre entretien entre le 15 et le 19 Mai 2017. \nDu 15 au 19 Mai 2017 : Journées de rencontres et d’entretiens en ligne entre candidats et recruteurs. ​A l’heure convenue du rendez-vous\, le recruteur vous contactera pour un entretien par téléphone ou tchat. \nInscrivez-vous\, gratuitement\, sur Talents Handicap \n \nhttp://www.talents-handicap.com/
URL:https://ufrdsep-tmp.u-bourgogne.fr/event/10-eme-edition-du-forum-emploi-handicap-talents-handicap/
CATEGORIES:Formation
ATTACH;FMTTYPE=image/jpeg:https://ufrdsep-tmp.u-bourgogne.fr/wp-content/uploads/2017/06/Agenda_Affiche-Talents_Handicap.jpg
END:VEVENT
BEGIN:VEVENT
DTSTART;TZID=UTC:20170518T083000
DTEND;TZID=UTC:20170519T140000
DTSTAMP:20260420T063724
CREATED:20171011T140626Z
LAST-MODIFIED:20171011T140626Z
UID:11635-1495096200-1495202400@ufrdsep-tmp.u-bourgogne.fr
SUMMARY:Colloque "La pensée constitutionnelle de Robespierre"
DESCRIPTION:Inscription gratuite\, participation au déjeuner possible \nBulletin d’inscription  \nPlaquette avec programme complet \nA voir aussi: Exposition BU Droit-Lettres « Robespierre et le robespierrisme selon Jean Dautry » du 2 au 31 mai 2017 \n \nLa personne\, l’action et la pensée de Robespierre n’ont jamais cessé de susciter un vif intérêt chez les historiens et\, plus généralement\, chez tous ceux qu’intéressent la politique et la philosophie. Robespierre n’a en revanche jamais fait l’objet d’une étude proprement juridique\, issue de la recherche en droit public\, alors pourtant que les sujets qu’il a abordés relèvent directement du droit constitutionnel et\, plus largement\, de ce qu’il est convenu d’appeler aujourd’hui le « droit politique » : Constitution\, déclaration des droits\, droits de l’homme\, droit naturel\, libertés publiques\, démocratie\, séparation des pouvoirs\, états d’exception\, gouvernement révolutionnaire\, distinction des régimes\, limitation de la propriété\, représentation\, etc. Ce colloque a précisément pour but d’apporter un éclairage proprement juridique sur la pensée de Robespierre\, selon deux logiques : mettre cette pensée à l’épreuve\, bien sûr (quelle originalité ? Quelle cohérence ? Quelles influences ?)\, mais aussi profiter du détour historique par le robespierrisme pour mettre à l’épreuve les catégories usuelles du droit politique telles qu’elles se sont précisément constituées à l’époque révolutionnaire. \nOrganisé par Elsa Forey  et  Bernard Quiriny\, Professeurs de droit public
URL:https://ufrdsep-tmp.u-bourgogne.fr/event/colloque-la-pensee-constitutionnelle-de-robespierre/
LOCATION:Amphithéâtre de la MSH de Dijon\, Amphithéâtre de la MSH de Dijon
CATEGORIES:Formation
ATTACH;FMTTYPE=application/msword:https://ufrdsep-tmp.u-bourgogne.fr/wp-content/uploads/2017/10/Bulletin_inscription_Coll_Robespierre.doc
END:VEVENT
END:VCALENDAR