BEGIN:VCALENDAR
VERSION:2.0
PRODID:-//kit uB - ECPv6.2.8.2//NONSGML v1.0//EN
CALSCALE:GREGORIAN
METHOD:PUBLISH
X-WR-CALNAME:kit uB
X-ORIGINAL-URL:https://ufrdsep-tmp.u-bourgogne.fr
X-WR-CALDESC:évènements pour kit uB
REFRESH-INTERVAL;VALUE=DURATION:PT1H
X-Robots-Tag:noindex
X-PUBLISHED-TTL:PT1H
BEGIN:VTIMEZONE
TZID:UTC
BEGIN:STANDARD
TZOFFSETFROM:+0000
TZOFFSETTO:+0000
TZNAME:UTC
DTSTART:20170101T000000
END:STANDARD
END:VTIMEZONE
BEGIN:VEVENT
DTSTART;VALUE=DATE:20170327
DTEND;VALUE=DATE:20170401
DTSTAMP:20260420T080610
CREATED:20170619T121733Z
LAST-MODIFIED:20170619T121733Z
UID:11593-1490572800-1491004799@ufrdsep-tmp.u-bourgogne.fr
SUMMARY:9 ème édition du forum en ligne Emploi Handicap "Talents Handicap"
DESCRIPTION:La 9ème édition nationale du forum en ligne Talents Handicap est dédiée à l’alternance et aux stages\, et ouvre aux candidats dès le 3 mars pour la phase de préparation et de prise de rendez-vous. \nSi vous êtes un candidat en situation de handicap\, Talents Handicap vous donne l’occasion d’échanger\, sans vous déplacer\, avec de nombreux employeurs et organismes de formation. C’est un forum innovant qui utilise une technologie vérifiant l’adéquation entre offres et candidats\, favorisant des mises en relation ciblées entre Recruteurs et Candidats. \nLe forum Talents Handicap ouvre aux candidats dès le 3 mars 2017 pour la phase de préparation et de prise de rendez-vous avec les exposants\, vous permettant de visiter leurs stands 3D\, de vous informer sur leurs activités et métiers et leur demander rendez-vous sur les offres qui vous intéressent. Les rendez-vous acceptés par les exposants se dérouleront par téléphone ou chat entre le 27 et le 31 mars 2017. \nPlusieurs centaines d’offres d’alternance et de stages sont proposées pour toute la France par une vingtaine de grands groupes tels que : Airbus\, Atos\, AXA\, BNP Paribas\, Capgemini\, Henkel\, Koné\, Lagardère\, MACIF\, Malakoff Mederic\, Manpower\, Safran\, Schneider Electric\, Socotec\, Sopra Steria… \n \nhttp://www.talents-handicap.com/
URL:https://ufrdsep-tmp.u-bourgogne.fr/event/9-eme-edition-du-forum-en-ligne-emploi-handicap-talents-handicap/
CATEGORIES:Formation
ATTACH;FMTTYPE=image/jpeg:https://ufrdsep-tmp.u-bourgogne.fr/wp-content/uploads/2017/06/Agenda_Affiche-Talents-Handicap-Alternance-mars2017.jpg
END:VEVENT
END:VCALENDAR