BEGIN:VCALENDAR
VERSION:2.0
PRODID:-//kit uB - ECPv6.2.8.2//NONSGML v1.0//EN
CALSCALE:GREGORIAN
METHOD:PUBLISH
X-ORIGINAL-URL:https://ufrdsep-tmp.u-bourgogne.fr
X-WR-CALDESC:évènements pour kit uB
REFRESH-INTERVAL;VALUE=DURATION:PT1H
X-Robots-Tag:noindex
X-PUBLISHED-TTL:PT1H
BEGIN:VTIMEZONE
TZID:UTC
BEGIN:STANDARD
TZOFFSETFROM:+0000
TZOFFSETTO:+0000
TZNAME:UTC
DTSTART:20170101T000000
END:STANDARD
END:VTIMEZONE
BEGIN:VEVENT
DTSTART;TZID=UTC:20170325T090000
DTEND;TZID=UTC:20170325T150000
DTSTAMP:20260420T092619
CREATED:20170619T121733Z
LAST-MODIFIED:20170619T121733Z
UID:11589-1490432400-1490454000@ufrdsep-tmp.u-bourgogne.fr
SUMMARY:Découvrez les métiers de la Banque
DESCRIPTION:Les métiers de la banque vous intéressent ? La délégation Alsace / Bourgogne / Franche-Comté du Centre de formation de la profession bancaire (CFPB) des vous guident en trois étapes jusqu’au recrutement ! \n– Découvrez les métiers de la banque : le conseil en agence\, la banque digitale\, les fonctions support…– Découvrez les cursus qui mènent à ces métiers : BTS\, licence\, master…– Des étudiants et des maîtres d’apprentissage répondront à vos questions sur les parcours en alternance dans la banque. Une session de training pour les entretiens de recrutement vous sera ouverte. – Rencontrez des banquiers\, prêts à vous recruter. N’oubliez pas votre CV ni votre lettre de motivation ! \n \nhttp://www.cfpb.fr/
URL:https://ufrdsep-tmp.u-bourgogne.fr/event/decouvrez-les-metiers-de-la-banque/
LOCATION:Palais des congrès – Dijon\, Palais des congrès - Dijon
CATEGORIES:Formation
ATTACH;FMTTYPE=image/jpeg:https://ufrdsep-tmp.u-bourgogne.fr/wp-content/uploads/2017/06/Agenda_jifr-dijon-2017-h.jpg
END:VEVENT
END:VCALENDAR