BEGIN:VCALENDAR
VERSION:2.0
PRODID:-//kit uB - ECPv6.2.8.2//NONSGML v1.0//EN
CALSCALE:GREGORIAN
METHOD:PUBLISH
X-WR-CALNAME:kit uB
X-ORIGINAL-URL:https://ufrdsep-tmp.u-bourgogne.fr
X-WR-CALDESC:évènements pour kit uB
REFRESH-INTERVAL;VALUE=DURATION:PT1H
X-Robots-Tag:noindex
X-PUBLISHED-TTL:PT1H
BEGIN:VTIMEZONE
TZID:UTC
BEGIN:STANDARD
TZOFFSETFROM:+0000
TZOFFSETTO:+0000
TZNAME:UTC
DTSTART:20170101T000000
END:STANDARD
END:VTIMEZONE
BEGIN:VEVENT
DTSTART;TZID=UTC:20170323T160000
DTEND;TZID=UTC:20170323T183000
DTSTAMP:20260420T092527
CREATED:20170619T121733Z
LAST-MODIFIED:20170619T121733Z
UID:11577-1490284800-1490293800@ufrdsep-tmp.u-bourgogne.fr
SUMMARY:Forum des métiers de la vigne et du vin
DESCRIPTION:Jeudi 23 mars 2017\, sur le campus dijonnais\, venez découvrir les nombreux débouchés\, les opportunités (stages/emplois) et les innovations d’une filière prestigieuse qui s’adresse à tous/tes les étudiant/es. \nOenologue\, sommelier mais aussi chef d’équipe\, juriste spécialisé\, négociant\, ingénieur matériaux\, commercial\, responsable oenotourisme\, directeur des ventes… De la production à la commercialisation\, la filière de la vigne et du vin fait intervenir de très nombreux métiers. \nPour assurer toutes ces activités\, le secteur recherche ainsi chaque année des profils issus de toutes filières : Sciences de la Vigne\, Droit et Sciences Economiques\, Langues et Communication\, Lettres\, Sciences de Santé\, Sciences et Techniques\, Sciences Humaines\, Sciences Vie\, Terre et Environnement mais aussi des ingénieurs de l’Esirem\, des étudiants de l’IAE et des IUT. \nAlors\, pourquoi pas vous ? Le jeudi 23 mars 2017\, venez découvrir la diversité des métiers et rencontrer des entreprises du secteur\, dès 16h à la salle Multiplex (près arrêt université du Tram 1\, campus dijonnais). \nhttp://ub-link.u-bourgogne.fr/actualites/les-metiers-de-la-vigne-et-du-vin-a-la-rencontre-des-etudiants.html
URL:https://ufrdsep-tmp.u-bourgogne.fr/event/forum-des-metiers-de-la-vigne-et-du-vin/
LOCATION:Salle Multiplex\, Salle Multiplex
CATEGORIES:Formation
ATTACH;FMTTYPE=image/jpeg:https://ufrdsep-tmp.u-bourgogne.fr/wp-content/uploads/2017/06/Agenda_agenda-forum-vigne-vin.jpg
END:VEVENT
END:VCALENDAR