BEGIN:VCALENDAR
VERSION:2.0
PRODID:-//kit uB - ECPv6.2.8.2//NONSGML v1.0//EN
CALSCALE:GREGORIAN
METHOD:PUBLISH
X-ORIGINAL-URL:https://ufrdsep-tmp.u-bourgogne.fr
X-WR-CALDESC:évènements pour kit uB
REFRESH-INTERVAL;VALUE=DURATION:PT1H
X-Robots-Tag:noindex
X-PUBLISHED-TTL:PT1H
BEGIN:VTIMEZONE
TZID:UTC
BEGIN:STANDARD
TZOFFSETFROM:+0000
TZOFFSETTO:+0000
TZNAME:UTC
DTSTART:20170101T000000
END:STANDARD
END:VTIMEZONE
BEGIN:VEVENT
DTSTART;TZID=UTC:20170317T180000
DTEND;TZID=UTC:20170317T193000
DTSTAMP:20260420T092527
CREATED:20170619T121733Z
LAST-MODIFIED:20170619T121733Z
UID:11568-1489773600-1489779000@ufrdsep-tmp.u-bourgogne.fr
SUMMARY:Fête du droit 2017 : concert de musique classique avec l'association Tout en Mesure
DESCRIPTION:Dans le cadre de la Fête nationale du droit organisée par la Conférence des Doyens des Facultés de droit et science politique sur le thème « Musique et droit »\, la Faculté de droit\, sciences économique et politique de Dijon organise un concert de musique classique avec l’association Tout en Mesure . \nCe concert aura lieu le vendredi 17 mars prochain à 18h au Forum de la Maison des Sciences de l’Homme. \nL’entrée est gratuite. \nTélécharger le programme \nSi vous souhaitez assister à ce concert\, nous vous invitons à l’indiquer auprès de Mme Cécile Chaussard au courriel suivant cecile.chaussard@u-bourgogne.fr \nA noter que cette manifestation sera précédé d’une conférence intitulée « La musique appréhendée par le droit de la propriété intellectuelle – auteurs\, interprètes et producteurs »\, par Emmanuel PY\, Maître de conférences à l’Université de Bourgogne\, amphi Bachelard (Bâtiment droit-lettres côté lettres\, 2eme étage) de 16h à 17h30. \nEntrée gratuite. Manifestation ouverte à tous dans la limite des places disponibles \nAccueil
URL:https://ufrdsep-tmp.u-bourgogne.fr/event/fete-du-droit-2017-concert-de-musique-classique-avec-lassociation-tout-en-mesure/
LOCATION:Maison des Sciences de l’Homme (MSH) – Dijon\, Maison des Sciences de l'Homme (MSH) - Dijon
CATEGORIES:Formation
ATTACH;FMTTYPE=application/pdf:https://ufrdsep-tmp.u-bourgogne.fr/wp-content/uploads/2017/06/Agenda_programme-fete-droit-2017.pdf
END:VEVENT
END:VCALENDAR