BEGIN:VCALENDAR
VERSION:2.0
PRODID:-//kit uB - ECPv6.2.8.2//NONSGML v1.0//EN
CALSCALE:GREGORIAN
METHOD:PUBLISH
X-ORIGINAL-URL:https://ufrdsep-tmp.u-bourgogne.fr
X-WR-CALDESC:évènements pour kit uB
REFRESH-INTERVAL;VALUE=DURATION:PT1H
X-Robots-Tag:noindex
X-PUBLISHED-TTL:PT1H
BEGIN:VTIMEZONE
TZID:UTC
BEGIN:STANDARD
TZOFFSETFROM:+0000
TZOFFSETTO:+0000
TZNAME:UTC
DTSTART:20170101T000000
END:STANDARD
END:VTIMEZONE
BEGIN:VEVENT
DTSTART;VALUE=DATE:20170114
DTEND;VALUE=DATE:20170211
DTSTAMP:20260420T104839
CREATED:20170619T121733Z
LAST-MODIFIED:20170619T121733Z
UID:11521-1484352000-1486771199@ufrdsep-tmp.u-bourgogne.fr
SUMMARY:Carrefours des Carrières au Féminin 2017
DESCRIPTION:Le Carrefour des Carrières au Féminin a pour vocation d’informer les jeunes filles (collégiennes\, lycéennes\, étudiantes) et les femmes en recherche d’emploi ou en projet de reconversion à diversifier leurs choix d’orientation. \nLes Carrefours des Carrières au Féminin 2017 auront lieu aux dates suivantes : \n\nCôte d’Or : Samedi 14 janvier 2017\, 9 h – 12 h\, Salle Devosge\, 5bis rue Devosge\, 21000 Dijon\nYonne : Samedi 21 janvier\, 9 h 30 – 12 h 30\, Espace Culturel\, Route des Bries\, 89380 Appoigny (près d’Auxerre)\nNièvre : Vendredi 27 janvier\, 17 h – 21 h\, Salle de la Chaussade\, Impasse de la Madeleine\, 58200 Cosne-Cours sur Loire\nSaône et Loire : Vendredi 10 février\, 13 h – 17 h\, Parc des Expositions “L’Eduen”\, Avenue André Frenaud\, 71400 Autun\n\nLes CCF (Carrefours des Carrières au Féminin) ont pour but d’aider les jeunes filles (collégiennes\, lycéennes\, étudiantes) et femmes en recherche d’emploi ou en projet de reconversion à diversifier leurs choix d’orientation. Ils se déroulent sous forme d’entretiens individuels entre les visiteuses et des intervenantes qui sont des femmes qui exercent des métiers non-traditionnellement féminins. \n \nwww.fete-bourgogne.org
URL:https://ufrdsep-tmp.u-bourgogne.fr/event/carrefours-des-carrieres-au-feminin-2017/
CATEGORIES:Formation
ATTACH;FMTTYPE=image/jpeg:https://ufrdsep-tmp.u-bourgogne.fr/wp-content/uploads/2017/06/Agenda_affiche_carrefour_carrieres_feminin_2017-31de1.jpg
END:VEVENT
BEGIN:VEVENT
DTSTART;VALUE=DATE:20170210
DTEND;VALUE=DATE:20170213
DTSTAMP:20260420T104839
CREATED:20170619T121733Z
LAST-MODIFIED:20170619T121733Z
UID:11536-1486684800-1486943999@ufrdsep-tmp.u-bourgogne.fr
SUMMARY:Startup Weekend Dijon #3 : Food Innovation
DESCRIPTION:Les 10\, 11 et 12 février\, rendez-vous à Agrosup Dijon pour participer au Start’Up Weekend : Food Innovation. \nLe Start’Up Weekend s’adresse à des professionnels comme à des étudiants\, quel que soit leurs profils. La force d’une équipe vient de la diversité de ses membres : les développeurs sont tout aussi indispensables que les commerciaux\, les ingénieurs\, les designer ou les passionnés d’entrepreneuriat. \nQu’est-ce qu’un Start’Up Weekend ?\nC’est un événement pendant lequel les participants vont créer une Start’Up en 54h\, aidés de mentors\, coachs et jurys spécialisés. Pour cela\, rendez-vous le vendredi soir dès 17h : les participants porteurs de projets auront 1 minute pour pitcher leur idée de startup. Après ces présentations\, tous les participants votent\, afin que 12 projets soient sélectionnés. Les participants non-porteur de projet choisissent leur projet préféré afin de former des équipes composée de 5 à 10 membres. \n \nhttps://www.eventbrite.com/e/startup-weekend-dijon-3-food-innovation-tickets-30587510066
URL:https://ufrdsep-tmp.u-bourgogne.fr/event/startup-weekend-dijon-3-food-innovation/
CATEGORIES:Formation
ATTACH;FMTTYPE=image/png:https://ufrdsep-tmp.u-bourgogne.fr/wp-content/uploads/2017/06/Agenda_actu-startup-weekend-dijon.png
END:VEVENT
BEGIN:VEVENT
DTSTART;VALUE=DATE:20170210
DTEND;VALUE=DATE:20170211
DTSTAMP:20260420T104839
CREATED:20170619T121733Z
LAST-MODIFIED:20170619T121733Z
UID:11539-1486722600-1486722600@ufrdsep-tmp.u-bourgogne.fr
SUMMARY:Conférence : Development and early clinical experience with an easy to use one step Ga-68 THP-PSMA-11 kit
DESCRIPTION:Dans le cadre des conférences données par l’ICMUB (Institut de Chimie Moléculaire de l’université de Bourgogne)\, le Dr Greg Mullen (Theranostic’s\, King’s College London) donnera vendredi 10 février une conférence en salle Jean Tirouflt E101 (bâtiment IRCAMAT-Mirande). 
URL:https://ufrdsep-tmp.u-bourgogne.fr/event/conference-development-and-early-clinical-experience-with-an-easy-to-use-one-step-ga-68-thp-psma-11-kit/
LOCATION:Bâtiment Sciences Mirande – Dijon\, Bâtiment Sciences Mirande - Dijon
CATEGORIES:Formation
END:VEVENT
END:VCALENDAR