BEGIN:VCALENDAR
VERSION:2.0
PRODID:-//kit uB - ECPv6.2.8.2//NONSGML v1.0//EN
CALSCALE:GREGORIAN
METHOD:PUBLISH
X-WR-CALNAME:kit uB
X-ORIGINAL-URL:https://ufrdsep-tmp.u-bourgogne.fr
X-WR-CALDESC:évènements pour kit uB
REFRESH-INTERVAL;VALUE=DURATION:PT1H
X-Robots-Tag:noindex
X-PUBLISHED-TTL:PT1H
BEGIN:VTIMEZONE
TZID:UTC
BEGIN:STANDARD
TZOFFSETFROM:+0000
TZOFFSETTO:+0000
TZNAME:UTC
DTSTART:20170101T000000
END:STANDARD
END:VTIMEZONE
BEGIN:VEVENT
DTSTART;VALUE=DATE:20170114
DTEND;VALUE=DATE:20170211
DTSTAMP:20260420T122343
CREATED:20170619T121733Z
LAST-MODIFIED:20170619T121733Z
UID:11521-1484352000-1486771199@ufrdsep-tmp.u-bourgogne.fr
SUMMARY:Carrefours des Carrières au Féminin 2017
DESCRIPTION:Le Carrefour des Carrières au Féminin a pour vocation d’informer les jeunes filles (collégiennes\, lycéennes\, étudiantes) et les femmes en recherche d’emploi ou en projet de reconversion à diversifier leurs choix d’orientation. \nLes Carrefours des Carrières au Féminin 2017 auront lieu aux dates suivantes : \n\nCôte d’Or : Samedi 14 janvier 2017\, 9 h – 12 h\, Salle Devosge\, 5bis rue Devosge\, 21000 Dijon\nYonne : Samedi 21 janvier\, 9 h 30 – 12 h 30\, Espace Culturel\, Route des Bries\, 89380 Appoigny (près d’Auxerre)\nNièvre : Vendredi 27 janvier\, 17 h – 21 h\, Salle de la Chaussade\, Impasse de la Madeleine\, 58200 Cosne-Cours sur Loire\nSaône et Loire : Vendredi 10 février\, 13 h – 17 h\, Parc des Expositions “L’Eduen”\, Avenue André Frenaud\, 71400 Autun\n\nLes CCF (Carrefours des Carrières au Féminin) ont pour but d’aider les jeunes filles (collégiennes\, lycéennes\, étudiantes) et femmes en recherche d’emploi ou en projet de reconversion à diversifier leurs choix d’orientation. Ils se déroulent sous forme d’entretiens individuels entre les visiteuses et des intervenantes qui sont des femmes qui exercent des métiers non-traditionnellement féminins. \n \nwww.fete-bourgogne.org
URL:https://ufrdsep-tmp.u-bourgogne.fr/event/carrefours-des-carrieres-au-feminin-2017/
CATEGORIES:Formation
ATTACH;FMTTYPE=image/jpeg:https://ufrdsep-tmp.u-bourgogne.fr/wp-content/uploads/2017/06/Agenda_affiche_carrefour_carrieres_feminin_2017-31de1.jpg
END:VEVENT
END:VCALENDAR