BEGIN:VCALENDAR
VERSION:2.0
PRODID:-//kit uB - ECPv6.2.8.2//NONSGML v1.0//EN
CALSCALE:GREGORIAN
METHOD:PUBLISH
X-WR-CALNAME:kit uB
X-ORIGINAL-URL:https://ufrdsep-tmp.u-bourgogne.fr
X-WR-CALDESC:évènements pour kit uB
REFRESH-INTERVAL;VALUE=DURATION:PT1H
X-Robots-Tag:noindex
X-PUBLISHED-TTL:PT1H
BEGIN:VTIMEZONE
TZID:UTC
BEGIN:STANDARD
TZOFFSETFROM:+0000
TZOFFSETTO:+0000
TZNAME:UTC
DTSTART:20160101T000000
END:STANDARD
END:VTIMEZONE
BEGIN:VEVENT
DTSTART;TZID=UTC:20161205T183000
DTEND;TZID=UTC:20161205T203000
DTSTAMP:20260420T153746
CREATED:20170619T121733Z
LAST-MODIFIED:20170619T121733Z
UID:11511-1480962600-1480969800@ufrdsep-tmp.u-bourgogne.fr
SUMMARY:Conférence: Faut-il détester la Russie?
DESCRIPTION:Conférence/débat ouvert à toutes et à tous\, organisé par l’association « Les amis du monde diplomatique » et le CREDESPO. \nAvec Robert Charvin\, professeur de droit public\, Université de Nice\, à la suite de son ouvrage « Faut-il détester la Russie? Vers une nouvelle guerre froide »\, Investig Action\, avril 2016. \nEntrée libre
URL:https://ufrdsep-tmp.u-bourgogne.fr/event/conference-faut-il-detester-la-russie/
CATEGORIES:Formation
ATTACH;FMTTYPE=image/jpeg:https://ufrdsep-tmp.u-bourgogne.fr/wp-content/uploads/2017/06/affiche_conference_Charvin_12_2016_3.jpg
END:VEVENT
END:VCALENDAR