BEGIN:VCALENDAR
VERSION:2.0
PRODID:-//kit uB - ECPv6.2.8.2//NONSGML v1.0//EN
CALSCALE:GREGORIAN
METHOD:PUBLISH
X-ORIGINAL-URL:https://ufrdsep-tmp.u-bourgogne.fr
X-WR-CALDESC:évènements pour kit uB
REFRESH-INTERVAL;VALUE=DURATION:PT1H
X-Robots-Tag:noindex
X-PUBLISHED-TTL:PT1H
BEGIN:VTIMEZONE
TZID:UTC
BEGIN:STANDARD
TZOFFSETFROM:+0000
TZOFFSETTO:+0000
TZNAME:UTC
DTSTART:20160101T000000
END:STANDARD
END:VTIMEZONE
BEGIN:VEVENT
DTSTART;VALUE=DATE:20161201
DTEND;VALUE=DATE:20161202
DTSTAMP:20260420T135746
CREATED:20170619T121733Z
LAST-MODIFIED:20170619T121733Z
UID:11508-1480611600-1480611600@ufrdsep-tmp.u-bourgogne.fr
SUMMARY:Challenge du « Monde des Grandes Ecoles et Universités »
DESCRIPTION:Rencontre métiers on-line avec la participation des directeurs du recrutement d’Atos\, Groupe BPCE\, Disneyland Paris\, Generali\, Lagardère\, Nestlé\, Groupe Renault et SNCF. \nLors de cette Web TV métiers by Challenge du « Monde des Grandes Ecoles et Universités »\, ils vous donneront leurs conseils pour décrocher un job et présenteront leurs métiers lors d’une émission en direct sur www.cdmge.fr. \nPour participer à cette web TV\, il suffit de vous rendre sur la page www.cdmge.fr ou bien sur la page Facebook du Challenge du « Monde des Grandes Ecoles et Universités ». Vous pourrez poser vos questions en direct en commentaires de la vidéo sur Facebook ou sur Twitter avec le #CDMGE ou bien par mail à l’adresse suivante : pauline.pasquier@cdmge.fr. \nNe ratez pas cette opportunité d’échanger avec ces grandes entreprises qui seront peut-être vos futurs recruteurs ! Et n’hésitez pas à partager l’information avec vos amis en leur transmettant le lien d’inscription : www.cdmge.fr. \nVous pouvez également consulter les offres de recrutement\, de stage et d’alternance d’Atos\, Groupe BPCE\, Disneyland Paris\, Generali\, Lagardère\, Nestlé\, Groupe Renault et SNCF en cliquant sur ce lien.
URL:https://ufrdsep-tmp.u-bourgogne.fr/event/challenge-du-monde-des-grandes-ecoles-et-universites/
CATEGORIES:Formation
END:VEVENT
END:VCALENDAR