BEGIN:VCALENDAR
VERSION:2.0
PRODID:-//kit uB - ECPv6.2.8.2//NONSGML v1.0//EN
CALSCALE:GREGORIAN
METHOD:PUBLISH
X-ORIGINAL-URL:https://ufrdsep-tmp.u-bourgogne.fr
X-WR-CALDESC:évènements pour kit uB
REFRESH-INTERVAL;VALUE=DURATION:PT1H
X-Robots-Tag:noindex
X-PUBLISHED-TTL:PT1H
BEGIN:VTIMEZONE
TZID:UTC
BEGIN:STANDARD
TZOFFSETFROM:+0000
TZOFFSETTO:+0000
TZNAME:UTC
DTSTART:20160101T000000
END:STANDARD
END:VTIMEZONE
BEGIN:VEVENT
DTSTART;TZID=UTC:20161117T093000
DTEND;TZID=UTC:20161117T160000
DTSTAMP:20260420T153737
CREATED:20170619T121732Z
LAST-MODIFIED:20170619T121732Z
UID:11496-1479375000-1479398400@ufrdsep-tmp.u-bourgogne.fr
SUMMARY:Journée des masters "Nutrition et Sciences des aliments" et "Biologie Santé"
DESCRIPTION:Comme chaque année\, l’UFR SVTE organise jeudi 17 novembre sa journée des masters – mention « Nutrition et Sciences des aliments » et « Biologie Santé ». \nAu programe notamment\, la présentation de l’offre de formation Masters 2017-2021 et l’ntervention d’anciens étudiants des différents masters. \nVoir le programme \nhttp://master-nutrition-sante.u-bourgogne.fr/
URL:https://ufrdsep-tmp.u-bourgogne.fr/event/journee-des-masters-nutrition-et-sciences-des-aliments-et-biologie-sante/
CATEGORIES:Formation
ATTACH;FMTTYPE=application/pdf:https://ufrdsep-tmp.u-bourgogne.fr/wp-content/uploads/2017/06/Agenda_programme.pdf
END:VEVENT
END:VCALENDAR