BEGIN:VCALENDAR
VERSION:2.0
PRODID:-//kit uB - ECPv6.2.8.2//NONSGML v1.0//EN
CALSCALE:GREGORIAN
METHOD:PUBLISH
X-ORIGINAL-URL:https://ufrdsep-tmp.u-bourgogne.fr
X-WR-CALDESC:évènements pour kit uB
REFRESH-INTERVAL;VALUE=DURATION:PT1H
X-Robots-Tag:noindex
X-PUBLISHED-TTL:PT1H
BEGIN:VTIMEZONE
TZID:UTC
BEGIN:STANDARD
TZOFFSETFROM:+0000
TZOFFSETTO:+0000
TZNAME:UTC
DTSTART:20160101T000000
END:STANDARD
END:VTIMEZONE
BEGIN:VEVENT
DTSTART;TZID=UTC:20161018T104500
DTEND;TZID=UTC:20161018T121500
DTSTAMP:20260420T171407
CREATED:20170619T121732Z
LAST-MODIFIED:20170619T121732Z
UID:11479-1476787500-1476792900@ufrdsep-tmp.u-bourgogne.fr
SUMMARY:Permanence du Pôle Formation et Vie Universitaire
DESCRIPTION:Le Pôle Formation et Vie Universitaire de l’université de Bourgogne se déplace dans les composantes pour informer les étudiant-e-s sur les services qu’il propose (ateliers insertion/orientation\, conseil\, documentation…) \nN’hésitez pas à rencontrer l’équipe sur place pour poser toutes vos questions. \nhttp://ub-link.u-bourgogne.fr/
URL:https://ufrdsep-tmp.u-bourgogne.fr/event/permanence-du-pole-formation-et-vie-universitaire-3/
CATEGORIES:Formation
END:VEVENT
END:VCALENDAR