BEGIN:VCALENDAR
VERSION:2.0
PRODID:-//kit uB - ECPv6.2.8.2//NONSGML v1.0//EN
CALSCALE:GREGORIAN
METHOD:PUBLISH
X-ORIGINAL-URL:https://ufrdsep-tmp.u-bourgogne.fr
X-WR-CALDESC:évènements pour kit uB
REFRESH-INTERVAL;VALUE=DURATION:PT1H
X-Robots-Tag:noindex
X-PUBLISHED-TTL:PT1H
BEGIN:VTIMEZONE
TZID:UTC
BEGIN:STANDARD
TZOFFSETFROM:+0000
TZOFFSETTO:+0000
TZNAME:UTC
DTSTART:20160101T000000
END:STANDARD
END:VTIMEZONE
BEGIN:VEVENT
DTSTART;TZID=UTC:20161006T090000
DTEND;TZID=UTC:20161007T170000
DTSTAMP:20260420T171408
CREATED:20170619T121732Z
LAST-MODIFIED:20170619T121732Z
UID:11470-1475744400-1475859600@ufrdsep-tmp.u-bourgogne.fr
SUMMARY:Colloque : Compétitivité des chemins de fer et des cheminots
DESCRIPTION:-plaquette avec programme complet- \nInscription gratuite\, participation au buffet déjeunatoire possible \nBulletin d’inscription \nLors des pauses et des déjeuners du colloque et en fin de chaque journée\, projection d’oeuvres et d’histoires ferroviaires de l’écrivain Henri VINCENOT (prêtées aimablement par Claudine Vincenot et Gaby Bachet) \n  \n  \nColloque organisé par 5 équipes de recherches (Credespo\, Crego\, Thema\, TIL -Université de Bourgogne Franche Comté et Printemps -Université de Versailles-St-Quentin)\, un réseau de chercheurs (réseau Ferinter / International Railways Studies) et la Maison des Sciences de l’Homme de Dijon. Sous la direction scientifique de Dominique Andolfatto\, Marnix Dressen\, Patricia Perennes et Georges Ribeill. \nLe colloque « Compétitivité des chemins de fer et des cheminots » réunira des enseignants-chercheurs\, chercheurs\, doctorants et experts des chemins de fer qui s’interrogeront sur l’économie du rail\, la concurrence d’autres modes de transports\, la politique ferroviaire dans un double contexte d’européanisation et de régionalisation.Juristes\, politistes\, gestionnaires\, géographes\, sociologue ou économistes\, chercheront à repérer quelles particularités économiques et structurelles expliquent les évolutions contrastées des chemins de fer\, se demandant notamment :– s’il existe réellement un déficit de compétitivité des chemins de fer ;– quels indicateurs peuvent mesurer le niveau de performance de chacun des modes de transport en prenant notamment en compte le coût réel engendré par chacun d’eux pour la société ;– quel bilan esquisser de la politique de libéralisation ;– quelle analyse économique et sociale faire du statut des personnels\, des évolutions de la gouvernance et\, plus largement\, de la politique de restructuration voulue par l’Union européenne depuis les années 1990 : ouverture à la concurrence du transport ferroviaire\, nouvelle organisation du travail des salariés\, nouvelles procédures décisionnelles\, gestion par activités…
URL:https://ufrdsep-tmp.u-bourgogne.fr/event/colloque-competitivite-des-chemins-de-fer-et-des-cheminots/
CATEGORIES:Formation
ATTACH;FMTTYPE=application/msword:https://ufrdsep-tmp.u-bourgogne.fr/wp-content/uploads/2017/06/Agenda_MSH_Bulletin_inscription_Coll_cheminots.doc
END:VEVENT
BEGIN:VEVENT
DTSTART;TZID=UTC:20161007T090000
DTEND;TZID=UTC:20161007T170000
DTSTAMP:20260420T171408
CREATED:20170619T121732Z
LAST-MODIFIED:20170619T121732Z
UID:11473-1475830800-1475859600@ufrdsep-tmp.u-bourgogne.fr
SUMMARY:Le droit des sociétés et la réforme du droit des contrats
DESCRIPTION:Le colloque portant sur Le droit des sociétés et la réforme du droit des contrats\, organisé sous la direction scientifique de Mme le Professeur Julia Heinich et de M. le Doyen Vincent Thomas\, se tiendra le vendredi 14 octobre 2016 à l’Amphithéâtre Mathiez (Bâtiment lettres). \n\nPour plus d’infos\, consulter le programme.
URL:https://ufrdsep-tmp.u-bourgogne.fr/event/le-droit-des-societes-et-la-reforme-du-droit-des-contrats/
CATEGORIES:Formation
ATTACH;FMTTYPE=application/pdf:https://ufrdsep-tmp.u-bourgogne.fr/wp-content/uploads/2017/06/Plaquettes_colloques_Programme-bulletin-colloque-Dijon-14-oct.-2016-Julia-heinich.pdf
END:VEVENT
END:VCALENDAR