BEGIN:VCALENDAR
VERSION:2.0
PRODID:-//kit uB - ECPv6.2.8.2//NONSGML v1.0//EN
CALSCALE:GREGORIAN
METHOD:PUBLISH
X-WR-CALNAME:kit uB
X-ORIGINAL-URL:https://ufrdsep-tmp.u-bourgogne.fr
X-WR-CALDESC:évènements pour kit uB
REFRESH-INTERVAL;VALUE=DURATION:PT1H
X-Robots-Tag:noindex
X-PUBLISHED-TTL:PT1H
BEGIN:VTIMEZONE
TZID:UTC
BEGIN:STANDARD
TZOFFSETFROM:+0000
TZOFFSETTO:+0000
TZNAME:UTC
DTSTART:20160101T000000
END:STANDARD
END:VTIMEZONE
BEGIN:VEVENT
DTSTART;TZID=UTC:20160901T093000
DTEND;TZID=UTC:20160901T170000
DTSTAMP:20260420T185910
CREATED:20170619T121732Z
LAST-MODIFIED:20170619T121732Z
UID:11458-1472722200-1472749200@ufrdsep-tmp.u-bourgogne.fr
SUMMARY:Rentrée M1 et M2 MEEF 2nd degré - Site ESPE de Dijon
DESCRIPTION:Site ESPE de Dijon  9h30 pour les M2 et 15h30 pour les M1
URL:https://ufrdsep-tmp.u-bourgogne.fr/event/rentree-m1-et-m2-meef-2nd-degre-site-espe-de-dijon/
CATEGORIES:Formation
END:VEVENT
END:VCALENDAR