BEGIN:VCALENDAR
VERSION:2.0
PRODID:-//kit uB - ECPv6.2.8.2//NONSGML v1.0//EN
CALSCALE:GREGORIAN
METHOD:PUBLISH
X-ORIGINAL-URL:https://ufrdsep-tmp.u-bourgogne.fr
X-WR-CALDESC:évènements pour kit uB
REFRESH-INTERVAL;VALUE=DURATION:PT1H
X-Robots-Tag:noindex
X-PUBLISHED-TTL:PT1H
BEGIN:VTIMEZONE
TZID:UTC
BEGIN:STANDARD
TZOFFSETFROM:+0000
TZOFFSETTO:+0000
TZNAME:UTC
DTSTART:20160101T000000
END:STANDARD
END:VTIMEZONE
BEGIN:VEVENT
DTSTART;TZID=UTC:20160709T100000
DTEND;TZID=UTC:20160709T120000
DTSTAMP:20260420T221124
CREATED:20170619T121732Z
LAST-MODIFIED:20170619T121732Z
UID:11456-1468058400-1468065600@ufrdsep-tmp.u-bourgogne.fr
SUMMARY:Soutenance de thèse Droit : Chiraz KAROUI
DESCRIPTION:Sujet : L’indemnisation du préjudice dans l’arbitrage d’investissement. \nDirecteurs de thèse : Sébastien Manciaux et Ferhat Horchani \nJury : \n\nLofti Chedly – Professeur – Université de Tunis\nArmand De Nanteuil – Professeur – Université du Maine
URL:https://ufrdsep-tmp.u-bourgogne.fr/event/soutenance-de-these-droit-chiraz-karoui/
CATEGORIES:Formation
END:VEVENT
END:VCALENDAR