BEGIN:VCALENDAR
VERSION:2.0
PRODID:-//kit uB - ECPv6.2.8.2//NONSGML v1.0//EN
CALSCALE:GREGORIAN
METHOD:PUBLISH
X-ORIGINAL-URL:https://ufrdsep-tmp.u-bourgogne.fr
X-WR-CALDESC:évènements pour kit uB
REFRESH-INTERVAL;VALUE=DURATION:PT1H
X-Robots-Tag:noindex
X-PUBLISHED-TTL:PT1H
BEGIN:VTIMEZONE
TZID:UTC
BEGIN:STANDARD
TZOFFSETFROM:+0000
TZOFFSETTO:+0000
TZNAME:UTC
DTSTART:20160101T000000
END:STANDARD
END:VTIMEZONE
BEGIN:VEVENT
DTSTART;TZID=UTC:20160616T090000
DTEND;TZID=UTC:20160616T170000
DTSTAMP:20260422T103049
CREATED:20170619T121732Z
LAST-MODIFIED:20170619T121732Z
UID:11451-1466067600-1466096400@ufrdsep-tmp.u-bourgogne.fr
SUMMARY:Journée d'études : la réforme du droit des obligations: Quelles (r)évolutions pour la vente immobilière?
DESCRIPTION:Journée d’étude habilitée au titre se la formation continue \n(Inscriptions pour les notaires et collaborateurs de notaires: Institut des metiers de Notariat\, 2B Avenue de Marbotte\, 21000 Dijon\, Mme Françoise Roche imn-dijon@notaires.fr ) \n  \nProgramme et bulletin d’inscription  \nPlus d’infos: site du CREDESPO \n  \nL’objectif affiché de l’ordonnance du 10 février 2016 portant réforme du droit des contrats\, du régime général et de la preuve des obligations est de rendre le droit des obligations plus attractif\, plus simple et plus lisible. Il tend à le moderniser\, mais aussi à codifier de nombreux acquis jurisprudentiels. Si l’ordonnance ne vise que le droit commun des contrats\, sa portée ne peut être appréciée qu’à l’aune des contrats spéciaux\, au sein desquels la vente immobilière occupe une place particulière. La formation\, le contenu\, l’exécution comme l’extinction de ce contrat sont appelés à être modifiés. Mais quelle sera l’ampleur de cette réforme : s’agira-t-il d’évolutions ou de révolutions ?L’ambition de cette journée d’étude est de confronter les visions des universitaires et des praticiens sur les évolutions concrètes des volets majeurs de cette réforme sur la vente immobilière. \nDirection scientifique: Christelle Coutant-Lapalus\, Maître de conférences HDR\, Université de Bourgogne \n 
URL:https://ufrdsep-tmp.u-bourgogne.fr/event/journee-detudes-la-reforme-du-droit-des-obligations-quelles-revolutions-pour-la-vente-immobiliere/
CATEGORIES:Formation
END:VEVENT
END:VCALENDAR