BEGIN:VCALENDAR
VERSION:2.0
PRODID:-//kit uB - ECPv6.2.8.2//NONSGML v1.0//EN
CALSCALE:GREGORIAN
METHOD:PUBLISH
X-ORIGINAL-URL:https://ufrdsep-tmp.u-bourgogne.fr
X-WR-CALDESC:évènements pour kit uB
REFRESH-INTERVAL;VALUE=DURATION:PT1H
X-Robots-Tag:noindex
X-PUBLISHED-TTL:PT1H
BEGIN:VTIMEZONE
TZID:UTC
BEGIN:STANDARD
TZOFFSETFROM:+0000
TZOFFSETTO:+0000
TZNAME:UTC
DTSTART:20160101T000000
END:STANDARD
END:VTIMEZONE
BEGIN:VEVENT
DTSTART;TZID=UTC:20160513T080000
DTEND;TZID=UTC:20160513T170000
DTSTAMP:20260421T025553
CREATED:20170619T121732Z
LAST-MODIFIED:20170619T121732Z
UID:11438-1463126400-1463158800@ufrdsep-tmp.u-bourgogne.fr
SUMMARY:Colloque - La médiation de la consommation
DESCRIPTION:L’association JURIVISION a décidé de consacrer son 32e Colloque à l’étude de la médiation au regard de l’ordonnance du 20 Août 2015. \n\nPlus d’infos: site de l’association JURIVISION
URL:https://ufrdsep-tmp.u-bourgogne.fr/event/colloque-la-mediation-de-la-consommation/
CATEGORIES:Formation
END:VEVENT
BEGIN:VEVENT
DTSTART;TZID=UTC:20160513T110000
DTEND;TZID=UTC:20160513T123000
DTSTAMP:20260421T025553
CREATED:20170619T121732Z
LAST-MODIFIED:20170619T121732Z
UID:11440-1463137200-1463142600@ufrdsep-tmp.u-bourgogne.fr
SUMMARY:Conférence sur l'Europe : Qui sont les acteurs de la construction européenne ? Qui prend les décisions au niveau européen ?
DESCRIPTION:Dans le cadre de la fête de l’Europe\, le Centre de Recherche et d’Étude en Droit et Science Politique (CREDESPO) organise le 13 mai prochain\, 11h\, une conférence donnée par Isabelle Kerdudo\, sur les acteurs de l’Europe et le processus décisionnel européen. \nEntrée libre! \nIsabelle Kerdudo est expert-conférencière du réseau Team Europe France pour la Commission européenne. L’objectif est de donner à toutes et à tous les clefs de compréhension les enjeux principaux relatifs à l’Europe. \nLa conférence se tiendra à la Maison des Science de l’Homme de l’université de Bourgogne. \n 
URL:https://ufrdsep-tmp.u-bourgogne.fr/event/conference-sur-leurope-qui-sont-les-acteurs-de-la-construction-europeenne-qui-prend-les-decisions-au-niveau-europeen/
CATEGORIES:Formation
ATTACH;FMTTYPE=image/jpeg:https://ufrdsep-tmp.u-bourgogne.fr/wp-content/uploads/2017/06/Affiche_conf_PrintempsEurope2016_3.jpg
END:VEVENT
END:VCALENDAR