BEGIN:VCALENDAR
VERSION:2.0
PRODID:-//kit uB - ECPv6.2.8.2//NONSGML v1.0//EN
CALSCALE:GREGORIAN
METHOD:PUBLISH
X-WR-CALNAME:kit uB
X-ORIGINAL-URL:https://ufrdsep-tmp.u-bourgogne.fr
X-WR-CALDESC:évènements pour kit uB
REFRESH-INTERVAL;VALUE=DURATION:PT1H
X-Robots-Tag:noindex
X-PUBLISHED-TTL:PT1H
BEGIN:VTIMEZONE
TZID:UTC
BEGIN:STANDARD
TZOFFSETFROM:+0000
TZOFFSETTO:+0000
TZNAME:UTC
DTSTART:20160101T000000
END:STANDARD
END:VTIMEZONE
BEGIN:VEVENT
DTSTART;VALUE=DATE:20160206
DTEND;VALUE=DATE:20160207
DTSTAMP:20260421T080428
CREATED:20170619T121732Z
LAST-MODIFIED:20170619T121732Z
UID:11391-1454716800-1454803199@ufrdsep-tmp.u-bourgogne.fr
SUMMARY:Journée Portes Ouvertes à Auxerre
DESCRIPTION:L’université de Bourgogne accueillera les lycéens pour leur présenter ses formations sur son site d’Auxerre le samedi 6 février 2016.
URL:https://ufrdsep-tmp.u-bourgogne.fr/event/journee-portes-ouvertes-a-auxerre/
CATEGORIES:Formation
END:VEVENT
END:VCALENDAR