BEGIN:VCALENDAR
VERSION:2.0
PRODID:-//kit uB - ECPv6.2.8.2//NONSGML v1.0//EN
CALSCALE:GREGORIAN
METHOD:PUBLISH
X-WR-CALNAME:kit uB
X-ORIGINAL-URL:https://ufrdsep-tmp.u-bourgogne.fr
X-WR-CALDESC:évènements pour kit uB
REFRESH-INTERVAL;VALUE=DURATION:PT1H
X-Robots-Tag:noindex
X-PUBLISHED-TTL:PT1H
BEGIN:VTIMEZONE
TZID:UTC
BEGIN:STANDARD
TZOFFSETFROM:+0000
TZOFFSETTO:+0000
TZNAME:UTC
DTSTART:20170101T000000
END:STANDARD
END:VTIMEZONE
BEGIN:VEVENT
DTSTART;TZID=UTC:20171026T090000
DTEND;TZID=UTC:20171027T170000
DTSTAMP:20260425T212056
CREATED:20180126T150424Z
LAST-MODIFIED:20180126T150424Z
UID:11699-1509008400-1509123600@ufrdsep-tmp.u-bourgogne.fr
SUMMARY:Colloque "Le non-renvoi des questions prioritaires de constitutionnalité"
DESCRIPTION:Plaquette avec programme complet \nLieu: Université Clermont Auvergne\, Ecole de droit\, Amphithéâtre Trudaine\, 41 bd F.Mitterand\, 63000 Clermont-Ferrand \nInscription gratuite\, le jour du colloque \nL’étude du non-renvoi des questions prioritaires de constitutionnalité (QPC) par les Cours suprêmes présente un caractère singulier à bien des égards et notamment car elle touche à l’office du juge ; à son discours et au contrôle des lois par rapport à la norme suprême. Aussi surprenant soit-il\, et bien que le mécanisme de la QPC soit effectif depuis le 1er mars 2010\, aucune analyse globale n’a été réalisée sur cette problématique\, alors même qu’elle permettrait d’une part\, de préciser le contenu des modalités de renvoi qui conditionnent les chances de succès des recours ; d’autre part\, de délimiter l’office des Cours suprêmes\, et d’observer le cas échéant\, son élargissement\, et enfin\, d’indiquer\, à travers les motivations adoptées\, l’intention des juges. Le présent colloque se propose d’examiner l’ensemble de ces questions\, au travers d’une étude sectorielle du non-renvoi des QPC\, avec pour objectif de systématiser les résultats obtenus afin de dégager la ligne jurisprudentielle des Cours Suprêmes. \nColloque co-organisé par l’Université Clermont Auvergne\, Centre Michel de l’Hospital\, et l’Université de Bourgogne\, CREDESPO.  \nOrganisatrices: Nathalie Droin\, MCF Université de Bourgogne Franche-Comtéet et Aurélie Fautré-Robin (MCF Université Clermont Auvergne)  \n  \n \ncmh@uca.fr\nContact Université Clermont Auvergne
URL:https://ufrdsep-tmp.u-bourgogne.fr/event/colloque-le-non-renvoi-des-questions-prioritaires-de-constitutionnalite/
CATEGORIES:CREDESPO
ATTACH;FMTTYPE=image/jpeg:https://ufrdsep-tmp.u-bourgogne.fr/wp-content/uploads/2018/01/affiche_colloque_droit_26-27_oct_taille_reduit.jpg
END:VEVENT
END:VCALENDAR