BEGIN:VCALENDAR
VERSION:2.0
PRODID:-//kit uB - ECPv6.2.8.2//NONSGML v1.0//EN
CALSCALE:GREGORIAN
METHOD:PUBLISH
X-WR-CALNAME:kit uB
X-ORIGINAL-URL:https://ufrdsep-tmp.u-bourgogne.fr
X-WR-CALDESC:évènements pour kit uB
REFRESH-INTERVAL;VALUE=DURATION:PT1H
X-Robots-Tag:noindex
X-PUBLISHED-TTL:PT1H
BEGIN:VTIMEZONE
TZID:UTC
BEGIN:STANDARD
TZOFFSETFROM:+0000
TZOFFSETTO:+0000
TZNAME:UTC
DTSTART:20170101T000000
END:STANDARD
END:VTIMEZONE
BEGIN:VEVENT
DTSTART;VALUE=DATE:20171012
DTEND;VALUE=DATE:20171014
DTSTAMP:20260425T224238
CREATED:20180126T150424Z
LAST-MODIFIED:20180126T150424Z
UID:11683-1507766400-1507939199@ufrdsep-tmp.u-bourgogne.fr
SUMMARY:Colloque : la politique autrement : innovations citoyennes et défiance partisane
DESCRIPTION:Colloque co-organisé par la MSH et le CREDESPO\, en partenariat avec le TIL et le CIMEOS \n \n  \n 
URL:https://ufrdsep-tmp.u-bourgogne.fr/event/colloque-la-politique-autrement-innovations-citoyennes-et-defiance-partisane/
LOCATION:Maison des Sciences de l’Homme (MSH) – Dijon\, Maison des Sciences de l'Homme (MSH) - Dijon
CATEGORIES:CREDESPO
ATTACH;FMTTYPE=application/pdf:https://ufrdsep-tmp.u-bourgogne.fr/wp-content/uploads/2018/01/Agenda_MSH_prog_pol_autrement_A5_sept17-4.pdf
END:VEVENT
END:VCALENDAR