BEGIN:VCALENDAR
VERSION:2.0
PRODID:-//kit uB - ECPv6.2.8.2//NONSGML v1.0//EN
CALSCALE:GREGORIAN
METHOD:PUBLISH
X-ORIGINAL-URL:https://ufrdsep-tmp.u-bourgogne.fr
X-WR-CALDESC:évènements pour kit uB
REFRESH-INTERVAL;VALUE=DURATION:PT1H
X-Robots-Tag:noindex
X-PUBLISHED-TTL:PT1H
BEGIN:VTIMEZONE
TZID:UTC
BEGIN:STANDARD
TZOFFSETFROM:+0000
TZOFFSETTO:+0000
TZNAME:UTC
DTSTART:20170101T000000
END:STANDARD
END:VTIMEZONE
BEGIN:VEVENT
DTSTART;TZID=UTC:20170620T143000
DTEND;TZID=UTC:20170620T170000
DTSTAMP:20260426T014042
CREATED:20171011T140626Z
LAST-MODIFIED:20171011T140626Z
UID:11665-1497969000-1497978000@ufrdsep-tmp.u-bourgogne.fr
SUMMARY:Soutenance de thèse Droit : Ludovic de THY
DESCRIPTION:Sujet : L’écriture des lois constitutionnelles de 1875 \nDirecteur de thèse : Patrick Charlot \nJury : \n\nJacky Hummel – Professeur – Université de Rennes\nArnaud Le Pillover – Professeur – Université de Nanterre\nMarcel Morabito – Professeur – Sciences Po Paris\nPatrice Rolland – Université Paris Est\nKaren Fiorentino – Professeur – Université de Bourgogne\nBeranrd Quiriny – Professeur – Université de Bourgogne
URL:https://ufrdsep-tmp.u-bourgogne.fr/event/soutenance-de-these-droit-ludovic-de-thy/
LOCATION:Salle du conseil – UFR Droit\, Salle du conseil - UFR Droit
CATEGORIES:CREDESPO
END:VEVENT
END:VCALENDAR